BEGIN:VCALENDAR
VERSION:2.0
PRODID:-//Tukios.com/
BEGIN:VEVENT
UID:398b5d7e-86de-414d-ad83-7b44523b2acd@www.thomasjustinmemorial.com
DTSTAMP:20260422T210658Z
DTSTART:20260428T124500Z
DTEND:20260428T134500Z
SUMMARY:Visitation
DESCRIPTION:
URL:https://www.thomasjustinmemorial.com/obituaries/lawrence-buescher
LOCATION: 8815 E Kemper Rd  Cincinnati OH 45249
GEO:39.266006;-84.3196521
END:VEVENT
END:VCALENDAR