BEGIN:VCALENDAR
VERSION:2.0
PRODID:-//Tukios.com/
BEGIN:VEVENT
UID:a261de0f-1474-42ba-b097-a91c03b6a318@www.thomasjustinmemorial.com
DTSTAMP:20260422T210342Z
DTSTART:20260428T140000Z
DTEND:20260428T150000Z
SUMMARY:Funeral Service
DESCRIPTION:
URL:https://www.thomasjustinmemorial.com/obituaries/lawrence-buescher
LOCATION: 8815 E Kemper Rd  Cincinnati OH 45249
GEO:39.266006;-84.3196521
END:VEVENT
END:VCALENDAR